BEGIN:VCALENDAR
VERSION:2.0
PRODID:-//135.125.167.188//NONSGML kigkonsult.se iCalcreator 2.20//
CALSCALE:GREGORIAN
METHOD:PUBLISH
X-WR-TIMEZONE:Europe/Prague
BEGIN:VEVENT
UID:event355@Dědův sklep 
DTSTAMP:20260419T152740Z
CATEGORIES:Kalendář rezervací
DESCRIPTION:obsazeno\nKategorie: Kalendář rezervací\nOdkaz: https://www.ded
 uvsklep.cz/index.php?option=com_jem&view=event&id=355:obsazeno\n
DTSTART;VALUE=DATE:20260416
DTEND;VALUE=DATE:20260424
SUMMARY:obsazeno
URL:https://www.deduvsklep.cz/index.php?option=com_jem&view=event&id=355:ob
 sazeno
END:VEVENT
BEGIN:VEVENT
UID:event356@Dědův sklep 
DTSTAMP:20260419T152740Z
CATEGORIES:Kalendář rezervací
DESCRIPTION:obsazeno\nKategorie: Kalendář rezervací\nOdkaz: https://www.ded
 uvsklep.cz/index.php?option=com_jem&view=event&id=356:obsazeno\n
DTSTART;VALUE=DATE:20260423
DTEND;VALUE=DATE:20260427
SUMMARY:obsazeno
URL:https://www.deduvsklep.cz/index.php?option=com_jem&view=event&id=356:ob
 sazeno
END:VEVENT
BEGIN:VEVENT
UID:event344@Dědův sklep 
DTSTAMP:20260419T152740Z
CATEGORIES:Kalendář rezervací
DESCRIPTION:obsazeno\nKategorie: Kalendář rezervací\nOdkaz: https://www.ded
 uvsklep.cz/index.php?option=com_jem&view=event&id=344:obsazeno\n
DTSTART;VALUE=DATE:20260423
DTEND;VALUE=DATE:20260427
LOCATION:Apartmán\,Czech Republic
SUMMARY:obsazeno
URL:https://www.deduvsklep.cz/index.php?option=com_jem&view=event&id=344:ob
 sazeno
END:VEVENT
BEGIN:VEVENT
UID:event359@Dědův sklep 
DTSTAMP:20260419T152740Z
CATEGORIES:Kalendář rezervací
DESCRIPTION:obsazeno\nKategorie: Kalendář rezervací\nOdkaz: https://www.ded
 uvsklep.cz/index.php?option=com_jem&view=event&id=359:obsazeno\n
DTSTART;VALUE=DATE:20260428
DTEND;VALUE=DATE:20260502
SUMMARY:obsazeno
URL:https://www.deduvsklep.cz/index.php?option=com_jem&view=event&id=359:ob
 sazeno
END:VEVENT
BEGIN:VEVENT
UID:event345@Dědův sklep 
DTSTAMP:20260419T152740Z
CATEGORIES:Kalendář rezervací
DESCRIPTION:obsazeno\nKategorie: Kalendář rezervací\nOdkaz: https://www.ded
 uvsklep.cz/index.php?option=com_jem&view=event&id=345:obsazeno\n
DTSTART;VALUE=DATE:20260501
DTEND;VALUE=DATE:20260505
LOCATION:Apartmán\,Czech Republic
SUMMARY:obsazeno
URL:https://www.deduvsklep.cz/index.php?option=com_jem&view=event&id=345:ob
 sazeno
END:VEVENT
BEGIN:VEVENT
UID:event346@Dědův sklep 
DTSTAMP:20260419T152740Z
CATEGORIES:Kalendář rezervací
DESCRIPTION:obsazeno\nKategorie: Kalendář rezervací\nOdkaz: https://www.ded
 uvsklep.cz/index.php?option=com_jem&view=event&id=346:obsazeno\n
DTSTART;TZID=Europe/Prague:20260507T140000
DTEND;TZID=Europe/Prague:20260510T100000
LOCATION:Apartmán\,Czech Republic
SUMMARY:obsazeno
URL:https://www.deduvsklep.cz/index.php?option=com_jem&view=event&id=346:ob
 sazeno
END:VEVENT
BEGIN:VEVENT
UID:event347@Dědův sklep 
DTSTAMP:20260419T152740Z
CATEGORIES:Kalendář rezervací
DESCRIPTION:obsazeno\nKategorie: Kalendář rezervací\nOdkaz: https://www.ded
 uvsklep.cz/index.php?option=com_jem&view=event&id=347:obsazeno\n
DTSTART;VALUE=DATE:20260515
DTEND;VALUE=DATE:20260519
LOCATION:Apartmán\,Czech Republic
SUMMARY:obsazeno
URL:https://www.deduvsklep.cz/index.php?option=com_jem&view=event&id=347:ob
 sazeno
END:VEVENT
BEGIN:VEVENT
UID:event348@Dědův sklep 
DTSTAMP:20260419T152740Z
CATEGORIES:Kalendář rezervací
DESCRIPTION:obsazeno\nKategorie: Kalendář rezervací\nOdkaz: https://www.ded
 uvsklep.cz/index.php?option=com_jem&view=event&id=348:obsazeno\n
DTSTART;VALUE=DATE:20260521
DTEND;VALUE=DATE:20260526
LOCATION:Apartmán\,Czech Republic
SUMMARY:obsazeno
URL:https://www.deduvsklep.cz/index.php?option=com_jem&view=event&id=348:ob
 sazeno
END:VEVENT
BEGIN:VEVENT
UID:event360@Dědův sklep 
DTSTAMP:20260419T152740Z
CATEGORIES:Kalendář rezervací
DESCRIPTION:obsazeno\nKategorie: Kalendář rezervací\nOdkaz: https://www.ded
 uvsklep.cz/index.php?option=com_jem&view=event&id=360:obsazeno\n
DTSTART;VALUE=DATE:20260525
DTEND;VALUE=DATE:20260531
SUMMARY:obsazeno
URL:https://www.deduvsklep.cz/index.php?option=com_jem&view=event&id=360:ob
 sazeno
END:VEVENT
BEGIN:VEVENT
UID:event349@Dědův sklep 
DTSTAMP:20260419T152740Z
CATEGORIES:Kalendář rezervací
DESCRIPTION:obsazeno\nKategorie: Kalendář rezervací\nOdkaz: https://www.ded
 uvsklep.cz/index.php?option=com_jem&view=event&id=349:obsazeno\n
DTSTART;VALUE=DATE:20260605
DTEND;VALUE=DATE:20260608
LOCATION:Apartmán\,Czech Republic
SUMMARY:obsazeno
URL:https://www.deduvsklep.cz/index.php?option=com_jem&view=event&id=349:ob
 sazeno
END:VEVENT
BEGIN:VEVENT
UID:event350@Dědův sklep 
DTSTAMP:20260419T152740Z
CATEGORIES:Kalendář rezervací
DESCRIPTION:obsazeno\nKategorie: Kalendář rezervací\nOdkaz: https://www.ded
 uvsklep.cz/index.php?option=com_jem&view=event&id=350:obsazeno\n
DTSTART;VALUE=DATE:20260613
DTEND;VALUE=DATE:20260620
SUMMARY:obsazeno
URL:https://www.deduvsklep.cz/index.php?option=com_jem&view=event&id=350:ob
 sazeno
END:VEVENT
BEGIN:VEVENT
UID:event361@Dědův sklep 
DTSTAMP:20260419T152740Z
CATEGORIES:Kalendář rezervací
DESCRIPTION:obsazeno\nKategorie: Kalendář rezervací\nOdkaz: https://www.ded
 uvsklep.cz/index.php?option=com_jem&view=event&id=361:obsazeno\n
DTSTART;VALUE=DATE:20260622
DTEND;VALUE=DATE:20260629
SUMMARY:obsazeno
URL:https://www.deduvsklep.cz/index.php?option=com_jem&view=event&id=361:ob
 sazeno
END:VEVENT
BEGIN:VEVENT
UID:event351@Dědův sklep 
DTSTAMP:20260419T152740Z
CATEGORIES:Kalendář rezervací
DESCRIPTION:obsazeno\nKategorie: Kalendář rezervací\nOdkaz: https://www.ded
 uvsklep.cz/index.php?option=com_jem&view=event&id=351:obsazeno\n
DTSTART;VALUE=DATE:20260703
DTEND;VALUE=DATE:20260802
SUMMARY:obsazeno
URL:https://www.deduvsklep.cz/index.php?option=com_jem&view=event&id=351:ob
 sazeno
END:VEVENT
BEGIN:VEVENT
UID:event353@Dědův sklep 
DTSTAMP:20260419T152740Z
CATEGORIES:Kalendář rezervací
DESCRIPTION:obsazeno\nKategorie: Kalendář rezervací\nOdkaz: https://www.ded
 uvsklep.cz/index.php?option=com_jem&view=event&id=353:obsazeno\n
DTSTART;VALUE=DATE:20260815
DTEND;VALUE=DATE:20260823
LOCATION:Apartmán\,Czech Republic
SUMMARY:obsazeno
URL:https://www.deduvsklep.cz/index.php?option=com_jem&view=event&id=353:ob
 sazeno
END:VEVENT
BEGIN:VEVENT
UID:event354@Dědův sklep 
DTSTAMP:20260419T152740Z
CATEGORIES:Kalendář rezervací
DESCRIPTION:obsazeno\nKategorie: Kalendář rezervací\nOdkaz: https://www.ded
 uvsklep.cz/index.php?option=com_jem&view=event&id=354:obsazeno\n
DTSTART;VALUE=DATE:20260916
DTEND;VALUE=DATE:20260921
SUMMARY:obsazeno
URL:https://www.deduvsklep.cz/index.php?option=com_jem&view=event&id=354:ob
 sazeno
END:VEVENT
BEGIN:VEVENT
UID:event352@Dědův sklep 
DTSTAMP:20260419T152740Z
CATEGORIES:Kalendář rezervací
DESCRIPTION:obsazeno\nKategorie: Kalendář rezervací\nOdkaz: https://www.ded
 uvsklep.cz/index.php?option=com_jem&view=event&id=352:obsazeno\n
DTSTART;VALUE=DATE:20260924
DTEND;VALUE=DATE:20260930
SUMMARY:obsazeno
URL:https://www.deduvsklep.cz/index.php?option=com_jem&view=event&id=352:ob
 sazeno
END:VEVENT
END:VCALENDAR
