BEGIN:VCALENDAR
VERSION:2.0
PRODID:-//135.125.167.188//NONSGML kigkonsult.se iCalcreator 2.20//
CALSCALE:GREGORIAN
METHOD:PUBLISH
X-WR-TIMEZONE:Europe/Prague
BEGIN:VEVENT
UID:event348@Dědův sklep 
DTSTAMP:20260419T152729Z
CATEGORIES:Kalendář rezervací
DESCRIPTION:obsazeno\nKategorie: Kalendář rezervací\nOdkaz: https://www.ded
 uvsklep.cz/index.php?option=com_jem&view=event&id=348:obsazeno\n
DTSTART;VALUE=DATE:20260521
DTEND;VALUE=DATE:20260526
LOCATION:Apartmán
SUMMARY:obsazeno
URL:https://www.deduvsklep.cz/index.php?option=com_jem&view=event&id=348:ob
 sazeno
END:VEVENT
END:VCALENDAR
